BEGIN:VCALENDAR
VERSION:2.0
PRODID:-//Women Chiefs of Enterprises International - ECPv6.15.20//NONSGML v1.0//EN
CALSCALE:GREGORIAN
METHOD:PUBLISH
X-WR-CALNAME:Women Chiefs of Enterprises International
X-ORIGINAL-URL:https://www.wcei.com.au
X-WR-CALDESC:Events for Women Chiefs of Enterprises International
REFRESH-INTERVAL;VALUE=DURATION:PT1H
X-Robots-Tag:noindex
X-PUBLISHED-TTL:PT1H
BEGIN:VTIMEZONE
TZID:Australia/Brisbane
BEGIN:STANDARD
TZOFFSETFROM:+1000
TZOFFSETTO:+1000
TZNAME:AEST
DTSTART:20250101T000000
END:STANDARD
END:VTIMEZONE
BEGIN:VEVENT
DTSTART;TZID=Australia/Brisbane:20260420T113000
DTEND;TZID=Australia/Brisbane:20260420T140000
DTSTAMP:20260420T193719
CREATED:20260114T032508Z
LAST-MODIFIED:20260408T063212Z
UID:6515-1776684600-1776693600@www.wcei.com.au
SUMMARY:WCEI Queensland: Presidents Members Lunch
DESCRIPTION:WCEI Queensland Division New Joint President’s\, Antoinette Aquilina and Virginia Bishop warmly invite you to this exclusive WCEI members’ event. \nPlease join WCEI Queensland for The Moreton Club Luncheon Series and Autumn 2025 President’s Luncheon\, welcoming our newest members to WCEI and our 2026 Queensland Council. \nWhen: Monday 20 April 11:30am – 2:00pm\nWhere: The Moreton Club\, New Farm\n71 Moray St\, New Farm QLD 4005\nTickets: $120 per person; book your tickets here \nThis is an exclusive WCEI members only event\, please no guests on this occasion. \nThis is a popular lunch on our WCEI Queensland event calendar\, so we encourage you to purchase your tickets early to avoid disappointment as event space is very limited\, this event will be sold out. \nPlease RSVP or purchase your tickets by 10th April 2026. \nCancellation Policy\nParticipants may cancel their registration without penalty up until 7 days prior to an event\, by giving written notification via email to the Secretariat Office of WCEI. \nCancellations received in the same manner less than 7 days before an event but within 24 hours of such event will incur a 20% administration fee. Cancellations received the day before\, the day of\, or after an event will not be eligible for a refund. Substitute attendees are welcome and encouraged with notice of such being given to the Secretariat Office of WCEI.
URL:https://www.wcei.com.au/event/wcei-queensland-presidents-members-lunch/
CATEGORIES:Brisbane,Home,National,National Events
ATTACH;FMTTYPE=image/png:https://www.wcei.com.au/wp-content/uploads/2026/01/QLD200426-5.png
END:VEVENT
END:VCALENDAR